Workbook

Sheet BI
A1: BI (Basic Information) | Valuation Basic Information
A3: Valuation Reference Date
A4: Base Year | B4: Base Month | C4: Date
A5: 2025 | B5: 6 | C5: 45838
A7: Projection End
A8: Year | B8: Fiscal Month | C8: End Date
A9: 2029 | B9: 12 | C9: 47483
A11: Valuation Period
A12: Duration | B12: Mid/End
A13: 5 | B13: Mid
A15: Company
A16: Company Name

Sheet WACC
A1: WACC | Weighted Average Cost of Capital Estimation
A3: WACC | F3: Discounted Cash Flow (DCF) and Weighted Average Cost of Capital (WACC)
A4: Risk-Free Rate (Rf) | B4: 0.02859 | F4: In the DCF method, the cost of capital must be determined by considering all the capital invested to generate corporate cash flows. Investors include both equity (shareholders) and debt (borrowed capital).
A5: Market Risk Premium (MRP) | B5: 0.08 | F5: If there are other forms of capital with different claims, such as preferred stock, they must also be included. The cost of each capital component is weighted based on the market value of the invested capital to derive the Weighted Average Cost of Capital (WACC), which is used to discount corporate cash flows.
A6: Unlevered Beta | B6: 1 | F6: WACC represents the discount rate used to convert the expected future free cash flows of a business or operation into their present value, allocated to all capital providers, including shareholders and creditors.
A7: Equity Beta | B7: =(1+(1-$B$11)*$B$13)*$B$6 -> 2 | C7: → Automatically or manually inputtable | F7: Here, debt capital refers to interest-bearing liabilities. Liabilities such as accounts payable are generally classified as operating liabilities and reflected in free cash flow (FCF) as changes in working capital, so they are excluded from debt capital.
A8: Size Risk Premium | B8: 0.0375 | F8: The basic structure for calculating WACC is as follows:
A9: Cost of Equity (Ke) | B9: =B4+B5*B7+B8 -> 0.22609 | F9: WACC = Kd(1-tax) x D/(E+D) + Ke x E/(E+D)
A10: Cost of Debt (Kd) | B10: 0.04446 | F10: Kd = Cost of Debt
A11: Tax Rate | B11: =TAX!B12 -> 0 | C11: → Automatically calculated based on projected operating income. | F11: Ke = Cost of Equity
A12: After-Tax Cost of Debt | B12: =B10*(1-B11) -> 0.04446 | F12: D = Debt
A13: Debt-to-Equity Ratio (D/E) | B13: 1 | F13: E = Equity
A14: E/(E+D) | B14: =1/(1+B13) -> 0.5
A15: D/(E+D) | B15: =1-B14 -> 0.5
A16: Weighted Average Cost of Capital | B16: =ROUND($B$12*(1-(1/(1+$B$13)))+$B$9*(1/(1+$B$13)), 4) -> 0.1353 | C16: → Evaluation is possible even with a manually specified discount rate.

Sheet PL
A1: PL(Profit and Loss Statement)
A4: Main Category | B4: Medium Category | C4: Subcategory | D4: Detailed Category | E4: Sub-Detailed Category | F4: 2023 | G4: 2024 | H4: 01/2025-06/2025 | I4: Account Type | J4: Analysis Method | K4: Notes & References
A5: I. Revenue | B5: Product Revenue | F5: 168063711 | G5: 170880819 | H5: 89085937 | I5: Revenue | J5: Revenue Growth Rate
A6: I. Revenue | B6: Service Revenue | F6: 29083587 | G6: 31617233 | H6: 19292087 | I6: Revenue | J6: Market Share
A7: II. Cost of Goods Sold | B7: Labor Costs | F7: 22889937 | G7: 22775909 | H7: 11399548 | I7: COGS | J7: Labor Costs
A8: II. Cost of Goods Sold | B8: Retirement Benefits | F8: 2245173 | G8: 2231672 | H8: 1284506 | I8: COGS | J8: Labor Costs
A9: II. Cost of Goods Sold | B9: Material Cost | F9: 43512069 | G9: 43080381 | H9: 22570358 | I9: COGS | J9: Variable Costs
A10: II. Cost of Goods Sold | B10: Depreciation Expenses | F10: 6160194 | G10: 6160194 | H10: 3180097 | I10: COGS | J10: Depreciation and Amortization
A11: II. Cost of Goods Sold | B11: Rental Expense | F11: 785495 | G11: 833423 | H11: 482154 | I11: COGS | J11: Fixed Costs
A12: II. Cost of Goods Sold | B12: Repair Expense | F12: 0 | G12: 200000 | H12: 2500 | I12: COGS | J12: Fixed Costs
A13: II. Cost of Goods Sold | B13: Insurance Expense | F13: 1139403 | G13: 1255062 | H13: 605071 | I13: COGS | J13: Fixed Costs
A14: II. Cost of Goods Sold | B14: Freight Expense | F14: 399023 | G14: 734996 | H14: 404825 | I14: COGS | J14: Fixed Costs
A15: II. Cost of Goods Sold | B15: Amortization of Intangible Assets | F15: 400630 | G15: 400630 | H15: 200315 | I15: COGS | J15: Depreciation and Amortization
A16: IV. Selling & Administrative Expenses | B16: Employee Salary | F16: 21567004 | G16: 21670978 | H16: 10844209 | I16: SGA | J16: Labor Costs
... A35: V. Non-Operating Income & Expenses | B35: Interest Income | F35: 834356 | G35: 804784 | H35: 396278 | I35: NO | J35: Non-Operating

Sheet BS
A1: BS(Balance Sheet)
A4: Main Category | B4: Medium Category | C4: Subcategory | D4: Detailed Category | E4: Sub-Detailed Category | F4: 2023 | G4: 2024 | H4: 45838 | I4: Account Type | J4: Notes & References
A5: Assets | B5: I. Current Assets | C5: (1) Quick Assets | D5: Checking Deposits | F5: 6917692 | G5: 6093467 | H5: 8179986 | I5: NOA
A6: Assets | B6: I. Current Assets | C6: (1) Quick Assets | D6: Accounts Receivable | F6: 19199229 | G6: 26833964 | H6: 20012390 | I6: WC
A7: Assets | B7: I. Current Assets | C7: (1) Quick Assets | D7: Accrued Receivables | F7: 11000 | G7: 0 | H7: 0 | I7: OAL
A8: Assets | B8: I. Current Assets | C8: (1) Quick Assets | D8: Accrued Income | F8: 0 | G8: 0 | H8: 175208 | I8: OAL
A9: Assets | B9: I. Current Assets | C9: (1) Quick Assets | D9: Short-term Financial Products | F9: 0 | G9: 0 | H9: 8000000 | I9: NOA
A10: Assets | B10: I. Current Assets | C10: (1) Quick Assets | D10: Long-term Financial Products | F10: 0 | G10: 0 | H10: 10000000 | I10: NOA
A11: Assets | B11: I. Current Assets | C11: (1) Quick Assets | D11: Prepaid Expenses | F11: 5620521 | G11: 5704825 | H11: 0 | I11: OAL
A12: Assets | B12: I. Current Assets | C12: (2) Inventory Assets | D12: Finished Goods | F12: 5640062 | G12: 5031332 | H12: 2422232 | I12: WC
A13: Assets | B13: I. Current Assets | C13: (2) Inventory Assets | D13: Work in Progress | F13: 17147 | G13: 14051 | H13: 20563 | I13: WC
A14: Assets | B14: II. Non-Current Assets | C14: (1) Tangible Assets | D14: Land | F14: 2544067 | G14: 2544067 | H14: 2544067 | I14: FA
A15: Assets | B15: II. Non-Current Assets | C15: (1) Tangible Assets | D15: Building | E15: Building - Acquisition Cost | F15: 27174134 | G15: 27174134 | H15: 27174134 | I15: FA
A16: Assets | B16: II. Non-Current Assets | C16: (1) Tangible Assets | D16: Building | E16: Building - Accumulated Depreciation | F16: -5389028 | G16: -6747734 | H16: -7427088 | I16: FA
A17: Assets | B17: II. Non-Current Assets | C17: (1) Tangible Assets | D17: Machinery | E17: Machinery - Acquisition Cost | F17: 37395794 | G17: 37395794 | H17: 37395794 | I17: FA
A18: Assets | B18: II. Non-Current Assets | C18: (1) Tangible Assets | D18: Machinery | E18: Machinery - Accumulated Depreciation | F18: -7415501 | G18: -9285290 | H18: -10220185 | I18: FA
A19: Assets | B19: II. Non-Current Assets | C19: (2) Intangible Assets | D19: Patent Rights | F19: 3380178 | G19: 2979548 | H19: 2779233 | I19: FA
A20: Assets | B20: II. Non-Current Assets | C20: (3) Other Non-Current Assets | D20: Lease Deposits | F20: 1146200 | G20: 1146200 | H20: 1146200 | I20: OAL
A21: Assets | B21: II. Non-Current Assets | C21: (3) Other Non-Current Assets | D21: Long-term Prepaid Expenses | F21: 654158 | G21: 527063 | H21: 527063 | I21: OAL
A22: Liabilities | B22: I. Current Liabilities | C22: Accounts Payable | F22: 452900 | G22: 436583 | H22: 657908 | I22: WC
A23: Liabilities | B23: I. Current Liabilities | C23: Withholding Deposits | F23: 17793 | G23: 18672 | H23: 20976 | I23: OAL
A24: Liabilities | B24: I. Current Liabilities | C24: Accrued Expenses | F24: 1599047 | G24: 1665678 | H24: 1637413 | I24: OAL
A25: Liabilities | B25: I. Current Liabilities | C25: Current Portion of Long-Term Debt | F25: 6024000 | G25: 6024000 | H25: 4024000 | I25: IBD
A26: Liabilities | B26: II. Non-Current Liabilities | C26: Provision for Retirement Benefits | F26: 459530 | G26: 656179 | H26: 656179 | I26: OAL
A27: Liabilities | B27: II. Non-Current Liabilities | C27: Convertible Bonds | F27: 10000000 | G27: 10000000 | H27: 10000000 | I27: IBD
A28: Equity | F28: 78342383 | G28: 80610309 | H28: 85733121 | I28: EQU

Sheet Data
A1: DATA: Basic Assumptions | Projected Indicators for Valuation (Inflation Rate, GDP Growth Rate, Wage Growth Rate)
A3: Congressional Budget Office(CBO) | C3: Edition : Jan 2025 | E3: International Monetary Fund(IMF) | G3: Edition : Apr 2025
A5: Country | B5: Source | C5: Indicator Description | D5: 2025 | E5: 2026 | F5: 2027 | G5: 2028 | H5: 2029 | I5: 2030 | J5: 2031 | K5: 2032 | L5: 2033 | M5: 2034 | N5: 2035 | O5: 2036 | P5: 2037 | Q5: 2038 | R5: 2039 | S5: 2040 | T5: 2041 | U5: 2042 | V5: 2043 | W5: 2044 | X5: 2045 | Y5: 2046 | Z5: 2047 | AA5: 2048 | AB5: 2049 | AC5: 2050 | AD5: 2051 | AE5: 2052 | AF5: 2053 | AG5: 2054
A6: United States of America | B6: CBO | C6: GDP price index, Percentage change | D6: 0.02198 | E6: 0.02075 | F6: 0.01995 | G6: 0.01988 | H6: 0.01992 | I6: 0.01987 | J6: 0.01986 | K6: 0.01987 | L6: 0.01991 | M6: 0.01989 | N6: 0.0199 | O6: 0.0199 | P6: 0.0199 | Q6: 0.0199 | R6: 0.0199 | S6: 0.0199 | T6: 0.0199 | U6: 0.0199 | V6: 0.0199 | W6: 0.0199 | X6: 0.0199 | Y6: 0.0199 | Z6: 0.0199 | AA6: 0.0199 | AB6: 0.0199 | AC6: 0.0199 | AD6: 0.0199 | AE6: 0.0199 | AF6: 0.0199 | AG6: 0.0199
A7: United States of America | B7: IMF | C7: Inflation, average consumer prices | D7: 0.02988 | E7: 0.02466 | F7: 0.0211 | G7: 0.02155 | H7: 0.02169 | I7: 0.02175 | J7: 0.02175 | K7: 0.02175 | L7: 0.02175 | M7: 0.02175 | N7: 0.02175 | O7: 0.02175 | P7: 0.02175 | Q7: 0.02175 | R7: 0.02175 | S7: 0.02175 | T7: 0.02175 | U7: 0.02175 | V7: 0.02175 | W7: 0.02175 | X7: 0.02175 | Y7: 0.02175 | Z7: 0.02175 | AA7: 0.02175 | AB7: 0.02175 | AC7: 0.02175 | AD7: 0.02175 | AE7: 0.02175 | AF7: 0.02175 | AG7: 0.02175
A8: United States of America | B8: CBO | C8: Gross domestic product (GDP), Percentage change | D8: 0.04371 | E8: 0.0394 | F8: 0.03793 | G8: 0.03767 | H8: 0.03814 | I8: 0.03845 | J8: 0.03844 | K8: 0.03867 | L8: 0.03854 | M8: 0.03823 | N8: 0.03786 | O8: 0.03786 | P8: 0.03786 | Q8: 0.03786 | R8: 0.03786 | S8: 0.03786 | T8: 0.03786 | U8: 0.03786 | V8: 0.03786 | W8: 0.03786 | X8: 0.03786 | Y8: 0.03786 | Z8: 0.03786 | AA8: 0.03786 | AB8: 0.03786 | AC8: 0.03786 | AD8: 0.03786 | AE8: 0.03786 | AF8: 0.03786 | AG8: 0.03786
A9: United States of America | B9: CBO | C9: Employment cost index (ECI), private wages and salaries, Percentage change | D9: 0.03485 | E9: 0.03355 | F9: 0.03204 | G9: 0.03099 | H9: 0.03027 | I9: 0.02983 | J9: 0.02956 | K9: 0.02944 | L9: 0.02941 | M9: 0.02935 | N9: 0.02929 | O9: 0.02929 | P9: 0.02929 | Q9: 0.02929 | R9: 0.02929 | S9: 0.02929 | T9: 0.02929 | U9: 0.02929 | V9: 0.02929 | W9: 0.02929 | X9: 0.02929 | Y9: 0.02929 | Z9: 0.02929 | AA9: 0.02929 | AB9: 0.02929 | AC9: 0.02929 | AD9: 0.02929 | AE9: 0.02929 | AF9: 0.02929 | AG9: 0.02929
B11: : If no projection data is available, it is assumed that the growth rate from the previous year continues (shaded in gray).

Sheet PL_A
A1: PL_Adjustment
A2: ※ Enter any adjustments to the financial statements
A4: Main Category | B4: Medium Category | C4: Subcategory | D4: Detailed Category | E4: Sub-Detailed Category | F4: 2023 | G4: 2024 | H4: 01/2025-06/2025 | I4: Account Type | J4: Analysis Method | K4: Notes & References
A5: I. Revenue | B5: Product Revenue | I5: Revenue | J5: Revenue Growth Rate
A6: I. Revenue | B6: Service Revenue | I6: Revenue | J6: Market Share
A7: II. Cost of Goods Sold | B7: Labor Costs | I7: COGS | J7: Labor Costs
A8: II. Cost of Goods Sold | B8: Retirement Benefits | I8: COGS | J8: Labor Costs
A9: II. Cost of Goods Sold | B9: Material Cost | I9: COGS | J9: Variable Costs
A10: II. Cost of Goods Sold | B10: Depreciation Expenses | I10: COGS | J10: Depreciation and Amortization
A11: II. Cost of Goods Sold | B11: Rental Expense | I11: COGS | J11: Fixed Costs
A12: II. Cost of Goods Sold | B12: Repair Expense | I12: COGS | J12: Fixed Costs
A13: II. Cost of Goods Sold | B13: Insurance Expense | I13: COGS | J13: Fixed Costs
A14: II. Cost of Goods Sold | B14: Freight Expense | I14: COGS | J14: Fixed Costs
A15: II. Cost of Goods Sold | B15: Amortization of Intangible Assets | I15: COGS | J15: Depreciation and Amortization
A16: IV. Selling & Administrative Expenses | B16: Employee Salary | I16: SGA | J16: Labor Costs
... A35: V. Non-Operating Income & Expenses | B35: Interest Income | I35: NO | J35: Non-Operating

Sheet BS_A
A1: BS_Adjustment
A2: ※ Enter any adjustments to the financial statements
A4: Main Category | B4: Medium Category | C4: Subcategory | D4: Detailed Category | E4: Sub-Detailed Category | F4: 2023 | G4: 2024 | H4: 45838 | I4: Account Type | J4: Notes & References
A5: Assets | B5: I. Current Assets | C5: (1) Quick Assets | D5: Checking Deposits | I5: NOA
A6: Assets | B6: I. Current Assets | C6: (1) Quick Assets | D6: Accounts Receivable | I6: WC
A7: Assets | B7: I. Current Assets | C7: (1) Quick Assets | D7: Accrued Receivables | I7: OAL
A8: Assets | B8: I. Current Assets | C8: (1) Quick Assets | D8: Accrued Income | I8: OAL
A9: Assets | B9: I. Current Assets | C9: (1) Quick Assets | D9: Short-term Financial Products | I9: NOA
A10: Assets | B10: I. Current Assets | C10: (1) Quick Assets | D10: Long-term Financial Products | I10: NOA
A11: Assets | B11: I. Current Assets | C11: (1) Quick Assets | D11: Prepaid Expenses | I11: OAL
A12: Assets | B12: I. Current Assets | C12: (2) Inventory Assets | D12: Finished Goods | I12: WC
A13: Assets | B13: I. Current Assets | C13: (2) Inventory Assets | D13: Work in Progress | I13: WC
A14: Assets | B14: II. Non-Current Assets | C14: (1) Tangible Assets | D14: Land | I14: FA
A15: Assets | B15: II. Non-Current Assets | C15: (1) Tangible Assets | D15: Building | E15: Building - Acquisition Cost | I15: FA
A16: Assets | B16: II. Non-Current Assets | C16: (1) Tangible Assets | D16: Building | E16: Building - Accumulated Depreciation | I16: FA
A17: Assets | B17: II. Non-Current Assets | C17: (1) Tangible Assets | D17: Machinery | E17: Machinery - Acquisition Cost | I17: FA
A18: Assets | B18: II. Non-Current Assets | C18: (1) Tangible Assets | D18: Machinery | E18: Machinery - Accumulated Depreciation | I18: FA
A19: Assets | B19: II. Non-Current Assets | C19: (2) Intangible Assets | D19: Patent Rights | I19: FA
A20: Assets | B20: II. Non-Current Assets | C20: (3) Other Non-Current Assets | D20: Lease Deposits | I20: OAL
A21: Assets | B21: II. Non-Current Assets | C21: (3) Other Non-Current Assets | D21: Long-term Prepaid Expenses | I21: OAL
A22: Liabilities | B22: I. Current Liabilities | C22: Accounts Payable | I22: WC
A23: Liabilities | B23: I. Current Liabilities | C23: Withholding Deposits | I23: OAL
A24: Liabilities | B24: I. Current Liabilities | C24: Accrued Expenses | I24: OAL
A25: Liabilities | B25: I. Current Liabilities | C25: Current Portion of Long-Term Debt | I25: IBD
A26: Liabilities | B26: II. Non-Current Liabilities | C26: Provision for Retirement Benefits | I26: OAL
A27: Liabilities | B27: II. Non-Current Liabilities | C27: Convertible Bonds | I27: IBD
A28: Equity | I28: EQU

Sheet PL_F
A1: PL_Final
A2: ※ Profit and Loss statement reflecting the financial-statement adjustments
A4: Main Category | B4: Medium Category | C4: Subcategory | D4: Detailed Category | E4: Sub-Detailed Category | F4: 2023 | G4: 2024 | H4: 01/2025-06/2025 | I4: Account Type | J4: Analysis Method | K4: Notes & References
A5: I. Revenue | B5: Product Revenue | C5: Product Revenue | D5: Product Revenue | E5: Product Revenue | F5: =PL!F5+PL_A!F5 -> 168063711 | G5: =PL!G5+PL_A!G5 -> 170880819 | H5: =PL!H5+PL_A!H5 -> 89085937 | I5: Revenue | J5: Revenue Growth Rate
A6: I. Revenue | B6: Service Revenue | C6: Service Revenue | D6: Service Revenue | E6: Service Revenue | F6: =PL!F6+PL_A!F6 -> 29083587 | G6: =PL!G6+PL_A!G6 -> 31617233 | H6: =PL!H6+PL_A!H6 -> 19292087 | I6: Revenue | J6: Market Share
A7: II. Cost of Goods Sold | B7: Labor Costs | C7: Labor Costs | D7: Labor Costs | E7: Labor Costs | F7: =PL!F7+PL_A!F7 -> 22889937 | G7: =PL!G7+PL_A!G7 -> 22775909 | H7: =PL!H7+PL_A!H7 -> 11399548 | I7: COGS | J7: Labor Costs
A8: II. Cost of Goods Sold | B8: Retirement Benefits | C8: Retirement Benefits | D8: Retirement Benefits | E8: Retirement Benefits | F8: =PL!F8+PL_A!F8 -> 2245173 | G8: =PL!G8+PL_A!G8 -> 2231672 | H8: =PL!H8+PL_A!H8 -> 1284506 | I8: COGS | J8: Labor Costs
A9: II. Cost of Goods Sold | B9: Material Cost | C9: Material Cost | D9: Material Cost | E9: Material Cost | F9: =PL!F9+PL_A!F9 -> 43512069 | G9: =PL!G9+PL_A!G9 -> 43080381 | H9: =PL!H9+PL_A!H9 -> 22570358 | I9: COGS | J9: Variable Costs
A10: II. Cost of Goods Sold | B10: Depreciation Expenses | C10: Depreciation Expenses | D10: Depreciation Expenses | E10: Depreciation Expenses | F10: =PL!F10+PL_A!F10 -> 6160194 | G10: =PL!G10+PL_A!G10 -> 6160194 | H10: =PL!H10+PL_A!H10 -> 3180097 | I10: COGS | J10: Depreciation and Amortization
A11: II. Cost of Goods Sold | B11: Rental Expense | C11: Rental Expense | D11: Rental Expense | E11: Rental Expense | F11: =PL!F11+PL_A!F11 -> 785495 | G11: =PL!G11+PL_A!G11 -> 833423 | H11: =PL!H11+PL_A!H11 -> 482154 | I11: COGS | J11: Fixed Costs
A12: II. Cost of Goods Sold | B12: Repair Expense | C12: Repair Expense | D12: Repair Expense | E12: Repair Expense | F12: =PL!F12+PL_A!F12 -> 0 | G12: =PL!G12+PL_A!G12 -> 200000 | H12: =PL!H12+PL_A!H12 -> 2500 | I12: COGS | J12: Fixed Costs
A13: II. Cost of Goods Sold | B13: Insurance Expense | C13: Insurance Expense | D13: Insurance Expense | E13: Insurance Expense | F13: =PL!F13+PL_A!F13 -> 1139403 | G13: =PL!G13+PL_A!G13 -> 1255062 | H13: =PL!H13+PL_A!H13 -> 605071 | I13: COGS | J13: Fixed Costs
A14: II. Cost of Goods Sold | B14: Freight Expense | C14: Freight Expense | D14: Freight Expense | E14: Freight Expense | F14: =PL!F14+PL_A!F14 -> 399023 | G14: =PL!G14+PL_A!G14 -> 734996 | H14: =PL!H14+PL_A!H14 -> 404825 | I14: COGS | J14: Fixed Costs
A15: II. Cost of Goods Sold | B15: Amortization of Intangible Assets | C15: Amortization of Intangible Assets | D15: Amortization of Intangible Assets | E15: Amortization of Intangible Assets | F15: =PL!F15+PL_A!F15 -> 400630 | G15: =PL!G15+PL_A!G15 -> 400630 | H15: =PL!H15+PL_A!H15 -> 200315 | I15: COGS | J15: Depreciation and Amortization
A16: IV. Selling & Administrative Expenses | B16: Employee Salary | C16: Employee Salary | D16: Employee Salary | E16: Employee Salary | F16: =PL!F16+PL_A!F16 -> 21567004 | G16: =PL!G16+PL_A!G16 -> 21670978 | H16: =PL!H16+PL_A!H16 -> 10844209 | I16: SGA | J16: Labor Costs
... A35: V. Non-Operating Income & Expenses | B35: Interest Income | C35: Interest Income | D35: Interest Income | E35: Interest Income | F35: =PL!F35+PL_A!F35 -> 834356 | G35: =PL!G35+PL_A!G35 -> 804784 | H35: =PL!H35+PL_A!H35 -> 396278 | I35: NO | J35: Non-Operating

Sheet BS_F
A1: BS_Final
A2: ※ Balance Sheet reflecting the financial-statement adjustments
A4: Main Category | B4: Medium Category | C4: Subcategory | D4: Detailed Category | E4: Sub-Detailed Category | F4: 2023 | G4: 2024 | H4: 45838 | I4: Account Type | J4: Notes & References
A5: Assets | B5: I. Current Assets | C5: (1) Quick Assets | D5: Checking Deposits | E5: Checking Deposits | F5: =BS!F5+BS_A!F5 -> 6917692 | G5: =BS!G5+BS_A!G5 -> 6093467 | H5: =BS!H5+BS_A!H5 -> 8179986 | I5: NOA
A6: Assets | B6: I. Current Assets | C6: (1) Quick Assets | D6: Accounts Receivable | E6: Accounts Receivable | F6: =BS!F6+BS_A!F6 -> 19199229 | G6: =BS!G6+BS_A!G6 -> 26833964 | H6: =BS!H6+BS_A!H6 -> 20012390 | I6: WC
A7: Assets | B7: I. Current Assets | C7: (1) Quick Assets | D7: Accrued Receivables | E7: Accrued Receivables | F7: =BS!F7+BS_A!F7 -> 11000 | G7: =BS!G7+BS_A!G7 -> 0 | H7: =BS!H7+BS_A!H7 -> 0 | I7: OAL
A8: Assets | B8: I. Current Assets | C8: (1) Quick Assets | D8: Accrued Income | E8: Accrued Income | F8: =BS!F8+BS_A!F8 -> 0 | G8: =BS!G8+BS_A!G8 -> 0 | H8: =BS!H8+BS_A!H8 -> 175208 | I8: OAL
A9: Assets | B9: I. Current Assets | C9: (1) Quick Assets | D9: Short-term Financial Products | E9: Short-term Financial Products | F9: =BS!F9+BS_A!F9 -> 0 | G9: =BS!G9+BS_A!G9 -> 0 | H9: =BS!H9+BS_A!H9 -> 8000000 | I9: NOA
A10: Assets | B10: I. Current Assets | C10: (1) Quick Assets | D10: Long-term Financial Products | E10: Long-term Financial Products | F10: =BS!F10+BS_A!F10 -> 0 | G10: =BS!G10+BS_A!G10 -> 0 | H10: =BS!H10+BS_A!H10 -> 10000000 | I10: NOA
A11: Assets | B11: I. Current Assets | C11: (1) Quick Assets | D11: Prepaid Expenses | E11: Prepaid Expenses | F11: =BS!F11+BS_A!F11 -> 5620521 | G11: =BS!G11+BS_A!G11 -> 5704825 | H11: =BS!H11+BS_A!H11 -> 0 | I11: OAL
A12: Assets | B12: I. Current Assets | C12: (2) Inventory Assets | D12: Finished Goods | E12: Finished Goods | F12: =BS!F12+BS_A!F12 -> 5640062 | G12: =BS!G12+BS_A!G12 -> 5031332 | H12: =BS!H12+BS_A!H12 -> 2422232 | I12: WC
A13: Assets | B13: I. Current Assets | C13: (2) Inventory Assets | D13: Work in Progress | E13: Work in Progress | F13: =BS!F13+BS_A!F13 -> 17147 | G13: =BS!G13+BS_A!G13 -> 14051 | H13: =BS!H13+BS_A!H13 -> 20563 | I13: WC
A14: Assets | B14: II. Non-Current Assets | C14: (1) Tangible Assets | D14: Land | E14: Land | F14: =BS!F14+BS_A!F14 -> 2544067 | G14: =BS!G14+BS_A!G14 -> 2544067 | H14: =BS!H14+BS_A!H14 -> 2544067 | I14: FA
A15: Assets | B15: II. Non-Current Assets | C15: (1) Tangible Assets | D15: Building | E15: Building - Acquisition Cost | F15: =BS!F15+BS_A!F15 -> 27174134 | G15: =BS!G15+BS_A!G15 -> 27174134 | H15: =BS!H15+BS_A!H15 -> 27174134 | I15: FA
A16: Assets | B16: II. Non-Current Assets | C16: (1) Tangible Assets | D16: Building | E16: Building - Accumulated Depreciation | F16: =BS!F16+BS_A!F16 -> -5389028 | G16: =BS!G16+BS_A!G16 -> -6747734 | H16: =BS!H16+BS_A!H16 -> -7427088 | I16: FA
... A28: Equity | B28: Equity | C28: Equity | D28: Equity | E28: Equity | F28: =BS!F28+BS_A!F28 -> 78342383 | G28: =BS!G28+BS_A!G28 -> 80610309 | H28: =BS!H28+BS_A!H28 -> 85733121 | I28: EQU

Sheet DCF >>>

Sheet Revenue
A1: Revenue | H1: DCF Value | I1: =DCF!I44 -> 5.3337033e+08 | J1: =DCF!J44 -> 1.0553496e+09 | K1: =DCF!K44 -> 1.0786351e+09 | L1: =DCF!L44 -> 1.1008666e+09 | M1: =DCF!M44 -> 1.1211167e+09
F3: Historical Performance | I3: Projection
A4: Main Category | B4: Medium Category | C4: Subcategory | D4: Detailed Category | E4: Category | F4: 2023 | G4: 2024 | H4: 01/2025-06/2025 | I4: 07/2025 - 12/2025 | J4: 2026 | K4: 2027 | L4: 2028 | M4: 2029 | N4: Analysis Method | O4: Notes & References
A5: I. Revenue | B5: Product Revenue | C5: Product Revenue | D5: Product Revenue | E5: Product Revenue | F5: =PL!F5+PL_A!F5 -> 168063711 | G5: =PL!G5+PL_A!G5 -> 170880819 | H5: =PL!H5+PL_A!H5 -> 89085937 | I5: =Revenue!I12 -> 89085937 | J5: =Revenue!J12 -> 1.8519185e+08 | K5: =Revenue!K12 -> 1.9221617e+08 | L5: =Revenue!L12 -> 1.9945696e+08 | M5: =Revenue!M12 -> 2.0706424e+08 | N5: Revenue Growth Rate
A6: I. Revenue | B6: Service Revenue | C6: Service Revenue | D6: Service Revenue | E6: Service Revenue | F6: =PL!F6+PL_A!F6 -> 29083587 | G6: =PL!G6+PL_A!G6 -> 31617233 | H6: =PL!H6+PL_A!H6 -> 19292087 | I6: =Revenue!I26 -> 0 | J6: =Revenue!J26 -> 0 | K6: =Revenue!K26 -> 0 | L6: =Revenue!L26 -> 0 | M6: =Revenue!M26 -> 0 | N6: Market Share
E7: Total | F7: =SUM(F5:F6) -> 197147298 | G7: =SUM(G5:G6) -> 202498052 | H7: =SUM(H5:H6) -> 108378024 | I7: =SUM(I5:I6) -> 89085937 | J7: =SUM(J5:J6) -> 1.8519185e+08 | K7: =SUM(K5:K6) -> 1.9221617e+08 | L7: =SUM(L5:L6) -> 1.9945696e+08 | M7: =SUM(M5:M6) -> 2.0706424e+08
E8: Revenue Growth Rate | F8: 0 | G8: =IFERROR(G7/F7-1,0) -> 0.027140894 | H8: 0 | I8: =IFERROR((H7+I7)/G7-1,0) -> -0.024859948 | J8: =IFERROR(J7/(H7+I7)-1,0) -> -0.062148633 | K8: =IFERROR(K7/J7-1,0) -> 0.03793 | L8: =IFERROR(L7/K7-1,0) -> 0.03767 | M8: =IFERROR(M7/L7-1,0) -> 0.03814
A10: Basis of Product Revenue Calculation | F10: Historical Performance | I10: Projection
D11: Analysis Method | E11: Category | F11: 2023 | G11: 2024 | H11: 01/2025-06/2025 | I11: 07/2025 - 12/2025 | J11: 2026 | K11: 2027 | L11: 2028 | M11: 2029 | N11: Analysis Method | O11: Notes & References
A12: Revenue Calculation for Remaining Months | D12: Monthly Revenue × Remaining Months | E12: Product Revenue | F12: =PL!F5+PL_A!F5 -> 168063711 | G12: =PL!G5+PL_A!G5 -> 170880819 | H12: =PL!H5+PL_A!H5 -> 89085937 | I12: =IF(D12="Deducted After Applying Growth Rate", G12*(1+I15)-H12, IF(D12="Monthly Revenue × Remaining Months", H12/6*(12-6),"")) -> 89085937 | J12: =(H12+I12)*(1+J15) -> 1.8519185e+08 | K12: =J12*(1+K15) -> 1.9221617e+08 | L12: =K12*(1+L15) -> 1.9945696e+08 | M12: =L12*(1+M15) -> 2.0706424e+08 | N12: Revenue Growth Rate
E13: Revenue Growth Rate | F13: 0 | G13: =IFERROR(G12/F12-1,0) -> 0.016762143 | I13: =IFERROR((H12+I12)/G12-1,0) -> 0.042667486 | J13: =IFERROR(J12/(H12+I12)-1,0) -> 0.0394 | K13: =IFERROR(K12/J12-1,0) -> 0.03793 | L13: =IFERROR(L12/K12-1,0) -> 0.03767 | M13: =IFERROR(M12/L12-1,0) -> 0.03814
G15: Revenue Growth Rate | H15: 2 | I15: =CHOOSE($H$15,I16,I17,I18,I19) -> 0.04371 | J15: =CHOOSE($H$15,J16,J17,J18,J19) -> 0.0394 | K15: =CHOOSE($H$15,K16,K17,K18,K19) -> 0.03793 | L15: =CHOOSE($H$15,L16,L17,L18,L19) -> 0.03767 | M15: =CHOOSE($H$15,M16,M17,M18,M19) -> 0.03814
H16: Research Analysis
H17: GDP Growth Rate | I17: =Data!D$8 -> 0.04371 | J17: =Data!E$8 -> 0.0394 | K17: =Data!F$8 -> 0.03793 | L17: =Data!G$8 -> 0.03767 | M17: =Data!H$8 -> 0.03814
H18: Inflation Rate | I18: =Data!D$6 -> 0.02198 | J18: =Data!E$6 -> 0.02075 | K18: =Data!F$6 -> 0.01995 | L18: =Data!G$6 -> 0.01988 | M18: =Data!H$6 -> 0.01992
H19: Internal Analysis
A21: Basis of Service Revenue Calculation | F21: Historical Performance | I21: Projection
D22: Analysis Method | E22: Category | F22: 2023 | G22: 2024 | H22: 01/2025-06/2025 | I22: 07/2025 - 12/2025 | J22: 2026 | K22: 2027 | L22: 2028 | M22: 2029 | N22: Analysis Method | O22: Notes & References
A23: Revenue Calculation for Remaining Months | D23: Remaining Market × Market Share | E23: Market Size | H23: =IF($D23="Annual Market × Market Share - Accumulated Revenue", 0, IF($D23="Remaining Market × Market Share", G23*(1+I24)/12*6, "")) -> 0 | I23: =IF($D23="Annual Market × Market Share - Accumulated Revenue", G23*(1+I24), IF($D23="Remaining Market × Market Share", G23*(1+I24)/12*(12-6), "")) -> 0 | J23: =IF($D23="Annual Market × Market Share - Accumulated Revenue", I23*(1+J24), IF($D23="Remaining Market × Market Share", (H23+I23)*(1+J24), "")) -> 0 | K23: =J23*(1+K24) -> 0 | L23: =K23*(1+L24) -> 0 | M23: =L23*(1+M24) -> 0
E24: Market Growth Rate | F24: 0 | G24: =IFERROR(G23/F23-1,0) -> 0 | I24: =I29 -> 0.04371 | J24: =J29 -> 0.0394 | K24: =K29 -> 0.03793 | L24: =L29 -> 0.03767 | M24: =M29 -> 0.03814
C25: Estimated Market Share | D25: Previous Year | E25: Market Share | F25: =IFERROR(F26/F23,0) -> 0 | G25: =IFERROR(G26/G23,0) -> 0 | H25: =IFERROR(IF($D23="Annual Market × Market Share - Accumulated Revenue", 0, IF($D23="Remaining Market × Market Share", H26/H23, "")),0) -> 0 | I25: =IF($D25="3-Year Average", IFERROR(($F25*12+$G25*12+$H25*6)/(12+12+6),0), IF($D25="2-Year Average", IFERROR(($G25*12+$H25*6)/(12+6),0), IF($D25="Previous Year", IFERROR($G25,0), IF($D25="Current Year", IFERROR($H25,0), "")))) -> 0 | J25: =I25 -> 0 | K25: =J25 -> 0 | L25: =K25 -> 0 | M25: =L25 -> 0
E26: Service Revenue | F26: =PL!F6+PL_A!F6 -> 29083587 | G26: =PL!G6+PL_A!G6 -> 31617233 | H26: =PL!H6+PL_A!H6 -> 19292087 | I26: =IF($D23="Annual Market × Market Share - Accumulated Revenue", IFERROR((H23+I23)*I25-H26,""), IF($D23="Remaining Market × Market Share", IFERROR(I23*I25,""), "")) -> 0 | J26: =J23*J25 -> 0 | K26: =K23*K25 -> 0 | L26: =L23*L25 -> 0 | M26: =M23*M25 -> 0 | N26: Market Share
E27: Revenue Growth Rate | F27: 0 | G27: =IFERROR(G26/F26-1,0) -> 0.087116008 | I27: =IFERROR((H26+I26)/G26-1,0) -> -0.38982368 | J27: =IFERROR(J26/(H26+I26)-1,0) -> -1 | K27: =IFERROR(K26/J26-1,0) -> 0 | L27: =IFERROR(L26/K26-1,0) -> 0 | M27: =IFERROR(M26/L26-1,0) -> 0
G29: Market Growth Rate | H29: 2 | I29: =CHOOSE($H$29,I30,I31,I32,I33) -> 0.04371 | J29: =CHOOSE($H$29,J30,J31,J32,J33) -> 0.0394 | K29: =CHOOSE($H$29,K30,K31,K32,K33) -> 0.03793 | L29: =CHOOSE($H$29,L30,L31,L32,L33) -> 0.03767 | M29: =CHOOSE($H$29,M30,M31,M32,M33) -> 0.03814
H30: Research Analysis
H31: GDP Growth Rate | I31: =Data!D$8 -> 0.04371 | J31: =Data!E$8 -> 0.0394 | K31: =Data!F$8 -> 0.03793 | L31: =Data!G$8 -> 0.03767 | M31: =Data!H$8 -> 0.03814
H32: Inflation Rate | I32: =Data!D$6 -> 0.02198 | J32: =Data!E$6 -> 0.02075 | K32: =Data!F$6 -> 0.01995 | L32: =Data!G$6 -> 0.01988 | M32: =Data!H$6 -> 0.01992
H33: Internal Analysis

Sheet COGS
A1: COGS | H1: DCF Value | I1: =DCF!I44 -> 5.3337033e+08 | J1: =DCF!J44 -> 1.0553496e+09 | K1: =DCF!K44 -> 1.0786351e+09 | L1: =DCF!L44 -> 1.1008666e+09 | M1: =DCF!M44 -> 1.1211167e+09
F3: Historical Performance | I3: Projection
E4: Category | F4: 2023 | G4: 2024 | H4: 01/2025-06/2025 | I4: 07/2025 - 12/2025 | J4: 2026 | K4: 2027 | L4: 2028 | M4: 2029 | N4: Analysis Method | O4: Notes & References
E5: Labor Costs | F5: =SUMIFS(F$19:F$27,$N$19:$N$27, $E5) -> 25135110 | G5: =SUMIFS(G$19:G$27,$N$19:$N$27, $E5) -> 25007581 | H5: =SUMIFS(H$19:H$27,$N$19:$N$27, $E5) -> 12684054 | I5: =SUMIFS(I$19:I$27,$N$19:$N$27, $E5) -> 0 | J5: =SUMIFS(J$19:J$27,$N$19:$N$27, $E5) -> 0 | K5: =SUMIFS(K$19:K$27,$N$19:$N$27, $E5) -> 0 | L5: =SUMIFS(L$19:L$27,$N$19:$N$27, $E5) -> 0 | M5: =SUMIFS(M$19:M$27,$N$19:$N$27, $E5) -> 0
E6: Ratio to Revenue | F6: =IFERROR(F5/F15,0) -> 0.12749406 | G6: =IFERROR(G5/G15,0) -> 0.12349542 | H6: =IFERROR(H5/H15,0) -> 0.11703529 | I6: =IFERROR(I5/I15,0) -> 0 | J6: =IFERROR(J5/J15,0) -> 0 | K6: =IFERROR(K5/K15,0) -> 0 | L6: =IFERROR(L5/L15,0) -> 0 | M6: =IFERROR(M5/M15,0) -> 0
E7: Variable Costs | F7: =SUMIFS(F$19:F$27,$N$19:$N$27, $E7) -> 43512069 | G7: =SUMIFS(G$19:G$27,$N$19:$N$27, $E7) -> 43080381 | H7: =SUMIFS(H$19:H$27,$N$19:$N$27, $E7) -> 22570358 | I7: =SUMIFS(I$19:I$27,$N$19:$N$27, $E7) -> 18552668 | J7: =SUMIFS(J$19:J$27,$N$19:$N$27, $E7) -> 38567286 | K7: =SUMIFS(K$19:K$27,$N$19:$N$27, $E7) -> 40030143 | L7: =SUMIFS(L$19:L$27,$N$19:$N$27, $E7) -> 41538079 | M7: =SUMIFS(M$19:M$27,$N$19:$N$27, $E7) -> 43122341
E8: Ratio to Revenue | F8: =IFERROR(F7/F15,0) -> 0.22070842 | G8: =IFERROR(G7/G15,0) -> 0.21274467 | H8: =IFERROR(H7/H15,0) -> 0.20825585 | I8: =IFERROR(I7/I15,0) -> 0.20825585 | J8: =IFERROR(J7/J15,0) -> 0.20825585 | K8: =IFERROR(K7/K15,0) -> 0.20825585 | L8: =IFERROR(L7/L15,0) -> 0.20825585 | M8: =IFERROR(M7/M15,0) -> 0.20825585
E9: Fixed Costs | F9: =SUMIFS(F$19:F$27,$N$19:$N$27, $E9) -> 2323921 | G9: =SUMIFS(G$19:G$27,$N$19:$N$27, $E9) -> 3023481 | H9: =SUMIFS(H$19:H$27,$N$19:$N$27, $E9) -> 1494550 | I9: =SUMIFS(I$19:I$27,$N$19:$N$27, $E9) -> 1494550 | J9: =SUMIFS(J$19:J$27,$N$19:$N$27, $E9) -> 3051123.8 | K9: =SUMIFS(K$19:K$27,$N$19:$N$27, $E9) -> 3111993.7 | L9: =SUMIFS(L$19:L$27,$N$19:$N$27, $E9) -> 3173860.2 | M9: =SUMIFS(M$19:M$27,$N$19:$N$27, $E9) -> 3237083.5
E10: Ratio to Revenue | F10: =IFERROR(F9/F15,0) -> 0.01178774 | G10: =IFERROR(G9/G15,0) -> 0.014930914 | H10: =IFERROR(H9/H15,0) -> 0.013790157 | I10: =IFERROR(I9/I15,0) -> 0.016776498 | J10: =IFERROR(J9/J15,0) -> 0.016475476 | K10: =IFERROR(K9/K15,0) -> 0.016190072 | L10: =IFERROR(L9/L15,0) -> 0.015912507 | M10: =IFERROR(M9/M15,0) -> 0.015633233
E11: Depreciation and Amortization | F11: =SUMIFS(F$19:F$27,$N$19:$N$27, $E11) -> 6560824 | G11: =SUMIFS(G$19:G$27,$N$19:$N$27, $E11) -> 6560824 | H11: =SUMIFS(H$19:H$27,$N$19:$N$27, $E11) -> 3380412 | I11: =SUMIFS(I$19:I$27,$N$19:$N$27, $E11) -> 670503.09 | J11: =SUMIFS(J$19:J$27,$N$19:$N$27, $E11) -> 1754503.3 | K11: =SUMIFS(K$19:K$27,$N$19:$N$27, $E11) -> 2346951.1 | L11: =SUMIFS(L$19:L$27,$N$19:$N$27, $E11) -> 2765262.5 | M11: =SUMIFS(M$19:M$27,$N$19:$N$27, $E11) -> 3286658
E12: Ratio to Revenue | F12: =IFERROR(F11/F15,0) -> 0.033278792 | G12: =IFERROR(G11/G15,0) -> 0.032399443 | H12: =IFERROR(H11/H15,0) -> 0.031190936 | I12: =IFERROR(I11/I15,0) -> 0.0075264752 | J12: =IFERROR(J11/J15,0) -> 0.0094739773 | K12: =IFERROR(K11/K15,0) -> 0.012209956 | L12: =IFERROR(L11/L15,0) -> 0.013863956 | M12: =IFERROR(M11/M15,0) -> 0.015872649
E13: Total COGS | F13: =SUM(IFERROR(F5,0), IFERROR(F7,0), IFERROR(F9,0), IFERROR(F11,0)) -> 77531924 | G13: =SUM(IFERROR(G5,0), IFERROR(G7,0), IFERROR(G9,0), IFERROR(G11,0)) -> 77672267 | H13: =SUM(IFERROR(H5,0), IFERROR(H7,0), IFERROR(H9,0), IFERROR(H11,0)) -> 40129374 | I13: =SUM(IFERROR(I5,0), IFERROR(I7,0), IFERROR(I9,0), IFERROR(I11,0)) -> 20717721 | J13: =SUM(IFERROR(J5,0), IFERROR(J7,0), IFERROR(J9,0), IFERROR(J11,0)) -> 43372913 | K13: =SUM(IFERROR(K5,0), IFERROR(K7,0), IFERROR(K9,0), IFERROR(K11,0)) -> 45489088 | L13: =SUM(IFERROR(L5,0), IFERROR(L7,0), IFERROR(L9,0), IFERROR(L11,0)) -> 47477201 | M13: =SUM(IFERROR(M5,0), IFERROR(M7,0), IFERROR(M9,0), IFERROR(M11,0)) -> 49646083
E14: Ratio to Revenue | F14: =IFERROR(F13/F15,0) -> 0.39326902 | G14: =IFERROR(G13/G15,0) -> 0.38357044 | H14: =IFERROR(H13/H15,0) -> 0.37027224 | I14: =IFERROR(I13/I15,0) -> 0.23255883 | J14: =IFERROR(J13/J15,0) -> 0.23420531 | K14: =IFERROR(K13/K15,0) -> 0.23665588 | L14: =IFERROR(L13/L15,0) -> 0.23803232 | M14: =IFERROR(M13/M15,0) -> 0.23976174
E15: Revenue | F15: =Revenue!F7 -> 197147298 | G15: =Revenue!G7 -> 202498052 | H15: =Revenue!H7 -> 108378024 | I15: =Revenue!I7 -> 89085937 | J15: =Revenue!J7 -> 1.8519185e+08 | K15: =Revenue!K7 -> 1.9221617e+08 | L15: =Revenue!L7 -> 1.9945696e+08 | M15: =Revenue!M7 -> 2.0706424e+08
F17: Historical Performance | I17: Projection
A18: Main Category | B18: Medium Category | C18: Subcategory | D18: Detailed Category | E18: Category | F18: 2023 | G18: 2024 | H18: 01/2025-06/2025 | I18: 07/2025 - 12/2025 | J18: 2026 | K18: 2027 | L18: 2028 | M18: 2029 | N18: Analysis Method | O18: Notes & References
A19: II. Cost of Goods Sold | B19: Labor Costs | C19: Labor Costs | D19: Labor Costs | E19: Labor Costs | F19: =F34 -> 22889937 | G19: =G34 -> 22775909 | H19: =H34 -> 11399548 | I19: =I34 -> 0 | J19: =J34 -> 0 | K19: =K34 -> 0 | L19: =L34 -> 0 | M19: =M34 -> 0 | N19: Labor Costs
A20: II. Cost of Goods Sold | B20: Retirement Benefits | C20: Retirement Benefits | D20: Retirement Benefits | E20: Retirement Benefits | F20: =F35 -> 2245173 | G20: =G35 -> 2231672 | H20: =H35 -> 1284506 | I20: =I35 -> 0 | J20: =J35 -> 0 | K20: =K35 -> 0 | L20: =L35 -> 0 | M20: =M35 -> 0 | N20: Labor Costs
A21: II. Cost of Goods Sold | B21: Material Cost | C21: Material Cost | D21: Material Cost | E21: Material Cost | F21: =F70 -> 43512069 | G21: =G70 -> 43080381 | H21: =H70 -> 22570358 | I21: =I70 -> 18552668 | J21: =J70 -> 38567286 | K21: =K70 -> 40030143 | L21: =L70 -> 41538079 | M21: =M70 -> 43122341 | N21: Variable Costs
A22: II. Cost of Goods Sold | B22: Depreciation Expenses | C22: Depreciation Expenses | D22: Depreciation Expenses | E22: Depreciation Expenses | F22: =F87 -> 6160194 | G22: =G87 -> 6160194 | H22: =H87 -> 3180097 | I22: =I87 -> 629559.51 | J22: =J87 -> 1647989.7 | K22: =K87 -> 2204947.1 | L22: =L87 -> 2597912 | M22: =M87 -> 3087756.3 | N22: Depreciation and Amortization
A23: II. Cost of Goods Sold | B23: Rental Expense | C23: Rental Expense | D23: Rental Expense | E23: Rental Expense | F23: =F76 -> 785495 | G23: =G76 -> 833423 | H23: =H76 -> 482154 | I23: =I76 -> 482154 | J23: =J76 -> 984317.39 | K23: =K76 -> 1003954.5 | L23: =L76 -> 1023913.1 | M23: =M76 -> 1044309.5 | N23: Fixed Costs
A24: II. Cost of Goods Sold | B24: Repair Expense | C24: Repair Expense | D24: Repair Expense | E24: Repair Expense | F24: =F77 -> 0 | G24: =G77 -> 200000 | H24: =H77 -> 2500 | I24: =I77 -> 2500 | J24: =J77 -> 5103.75 | K24: =K77 -> 5205.5698 | L24: =L77 -> 5309.0565 | M24: =M77 -> 5414.8129 | N24: Fixed Costs
A25: II. Cost of Goods Sold | B25: Insurance Expense | C25: Insurance Expense | D25: Insurance Expense | E25: Insurance Expense | F25: =F78 -> 1139403 | G25: =G78 -> 1255062 | H25: =H78 -> 605071 | I25: =I78 -> 605071 | J25: =J78 -> 1235252.4 | K25: =K78 -> 1259895.7 | L25: =L78 -> 1284942.5 | M25: =M78 -> 1310538.5 | N25: Fixed Costs
A26: II. Cost of Goods Sold | B26: Freight Expense | C26: Freight Expense | D26: Freight Expense | E26: Freight Expense | F26: =F79 -> 399023 | G26: =G79 -> 734996 | H26: =H79 -> 404825 | I26: =I79 -> 404825 | J26: =J79 -> 826450.24 | K26: =K79 -> 842937.92 | L26: =L79 -> 859695.53 | M26: =M79 -> 876820.66 | N26: Fixed Costs
A27: II. Cost of Goods Sold | B27: Amortization of Intangible Assets | C27: Amortization of Intangible Assets | D27: Amortization of Intangible Assets | E27: Amortization of Intangible Assets | F27: =F88 -> 400630 | G27: =G88 -> 400630 | H27: =H88 -> 200315 | I27: =I88 -> 40943.585 | J27: =J88 -> 106513.64 | K27: =K88 -> 142003.97 | L27: =L88 -> 167350.53 | M27: =M88 -> 198901.64 | N27: Depreciation and Amortization
E28: Total | F28: =SUM(F19:F27) -> 77531924 | G28: =SUM(G19:G27) -> 77672267 | H28: =SUM(H19:H27) -> 40129374 | I28: =SUM(I19:I27) -> 20717721 | J28: =SUM(J19:J27) -> 43372913 | K28: =SUM(K19:K27) -> 45489088 | L28: =SUM(L19:L27) -> 47477201 | M28: =SUM(M19:M27) -> 49646083
E29: Ratio to Revenue | F29: =IFERROR(F28/F30,0) -> 0.39326902 | G29: =IFERROR(G28/G30,0) -> 0.38357044 | H29: =IFERROR(H28/H30,0) -> 0.37027224 | I29: =IFERROR(I28/I30,0) -> 0.23255883 | J29: =IFERROR(J28/J30,0) -> 0.23420531 | K29: =IFERROR(K28/K30,0) -> 0.23665588 | L29: =IFERROR(L28/L30,0) -> 0.23803232 | M29: =IFERROR(M28/M30,0) -> 0.23976174
E30: Revenue | F30: =Revenue!F7 -> 197147298 | G30: =Revenue!G7 -> 202498052 | H30: =Revenue!H7 -> 108378024 | I30: =Revenue!I7 -> 89085937 | J30: =Revenue!J7 -> 1.8519185e+08 | K30: =Revenue!K7 -> 1.9221617e+08 | L30: =Revenue!L7 -> 1.9945696e+08 | M30: =Revenue!M7 -> 2.0706424e+08
A32: COGS: Labor Costs | F32: Historical Performance | I32: Projection
E33: Category | F33: 2023 | G33: 2024 | H33: 01/2025-06/2025 | I33: 07/2025 - 12/2025 | J33: 2026 | K33: 2027 | L33: 2028 | M33: 2029 | N33: Analysis Method | O33: Notes & References
E34: Labor Costs | F34: =PL!F7+PL_A!F7 -> 22889937 | G34: =PL!G7+PL_A!G7 -> 22775909 | H34: =PL!H7+PL_A!H7 -> 11399548 | N34: Labor Costs
E35: Retirement Benefits | F35: =PL!F8+PL_A!F8 -> 2245173 | G35: =PL!G8+PL_A!G8 -> 2231672 | H35: =PL!H8+PL_A!H8 -> 1284506 | N35: Labor Costs
E36: Total Labor Costs | F36: =SUM(F34:F35) -> 25135110 | G36: =SUM(G34:G35) -> 25007581 | H36: =SUM(H34:H35) -> 12684054 | I36: =SUM(I34:I35) -> 0 | J36: =SUM(J34:J35) -> 0 | K36: =SUM(K34:K35) -> 0 | L36: =SUM(L34:L35) -> 0 | M36: =SUM(M34:M35) -> 0
E37: Ratio to Revenue | F37: =IFERROR(F36/F38,0) -> 0.12749406 | G37: =IFERROR(G36/G38,0) -> 0.12349542 | H37: =IFERROR(H36/H38,0) -> 0.11703529 | I37: =IFERROR(I36/I38,0) -> 0 | J37: =IFERROR(J36/J38,0) -> 0 | K37: =IFERROR(K36/K38,0) -> 0 | L37: =IFERROR(L36/L38,0) -> 0 | M37: =IFERROR(M36/M38,0) -> 0
E38: Revenue | F38: =Revenue!F7 -> 197147298 | G38: =Revenue!G7 -> 202498052 | H38: =Revenue!H7 -> 108378024 | I38: =Revenue!I7 -> 89085937 | J38: =Revenue!J7 -> 1.8519185e+08 | K38: =Revenue!K7 -> 1.9221617e+08 | L38: =Revenue!L7 -> 1.9945696e+08 | M38: =Revenue!M7 -> 2.0706424e+08
A40: COGS: Basis of Labor Costs Calculation | F40: Historical Performance | I40: Projection
D41: Analysis Method | E41: Category | F41: 2023 | G41: 2024 | H41: 01/2025-06/2025 | I41: 07/2025 - 12/2025 | J41: 2026 | K41: 2027 | L41: 2028 | M41: 2029 | N41: Analysis Method | O41: Notes & References
C42: Estimated Wage Growth Rate | D42: Wage Growth Rate | E42: Fixed Salary | I42: =I43*I44/12*(12-6) -> 0 | J42: =J43*J44 -> 0 | K42: =K43*K44 -> 0 | L42: =L43*L44 -> 0 | M42: =M43*M44 -> 0
E43: Average Headcount
C44: Estimate of Wage Growth Adjustment for Remaining Months Compared to the Previous Year | D44: Same as the Previous Month | E44: Salary per Person (Annual Salary) | F44: =IFERROR(F42/F43,0) -> 0 | G44: =IFERROR(G42/G43,0) -> 0 | H44: =IFERROR(H42/H43/6*12,0) -> 0 | I44: =IF($D44="Same as the Previous Month", H44, IF($D44 = "Wage Increase Adjustment", $G44*(1+$I45), "")) -> 0 | J44: =I44*(1+J45) -> 0 | K44: =J44*(1+K45) -> 0 | L44: =K44*(1+L45) -> 0 | M44: =L44*(1+M45) -> 0
...

Sheet SGA
A1: SG&A | H1: DCF Value | I1: =DCF!I44 -> 5.3337033e+08 | J1: =DCF!J44 -> 1.0553496e+09 | K1: =DCF!K44 -> 1.0786351e+09 | L1: =DCF!L44 -> 1.1008666e+09 | M1: =DCF!M44 -> 1.1211167e+09
F3: Historical Performance | I3: Projection
E4: Category | F4: 2023 | G4: 2024 | H4: 01/2025-06/2025 | I4: 07/2025 - 12/2025 | J4: 2026 | K4: 2027 | L4: 2028 | M4: 2029 | N4: Analysis Method | O4: Notes & References
E5: Labor Costs | F5: =SUMIFS(F$19:F$37,$N$19:$N$37, $E5) -> 27117069 | G5: =SUMIFS(G$19:G$37,$N$19:$N$37, $E5) -> 27316924 | H5: =SUMIFS(H$19:H$37,$N$19:$N$37, $E5) -> 13155024 | I5: =SUMIFS(I$19:I$37,$N$19:$N$37, $E5) -> 0 | J5: =SUMIFS(J$19:J$37,$N$19:$N$37, $E5) -> 0 | K5: =SUMIFS(K$19:K$37,$N$19:$N$37, $E5) -> 0 | L5: =SUMIFS(L$19:L$37,$N$19:$N$37, $E5) -> 0 | M5: =SUMIFS(M$19:M$37,$N$19:$N$37, $E5) -> 0
E6: Ratio to Revenue | F6: =IFERROR(F5/F15,0) -> 0.13754725 | G6: =IFERROR(G5/G15,0) -> 0.13489969 | H6: =IFERROR(H5/H15,0) -> 0.12138092 | I6: =IFERROR(I5/I15,0) -> 0 | J6: =IFERROR(J5/J15,0) -> 0 | K6: =IFERROR(K5/K15,0) -> 0 | L6: =IFERROR(L5/L15,0) -> 0 | M6: =IFERROR(M5/M15,0) -> 0
E7: Variable Costs | F7: =SUMIFS(F$19:F$37,$N$19:$N$37, $E7) -> 10542 | G7: =SUMIFS(G$19:G$37,$N$19:$N$37, $E7) -> 22185 | H7: =SUMIFS(H$19:H$37,$N$19:$N$37, $E7) -> 7782 | I7: =SUMIFS(I$19:I$37,$N$19:$N$37, $E7) -> 6396.7466 | J7: =SUMIFS(J$19:J$37,$N$19:$N$37, $E7) -> 13297.557 | K7: =SUMIFS(K$19:K$37,$N$19:$N$37, $E7) -> 13801.933 | L7: =SUMIFS(L$19:L$37,$N$19:$N$37, $E7) -> 14321.852 | M7: =SUMIFS(M$19:M$37,$N$19:$N$37, $E7) -> 14868.088
E8: Ratio to Revenue | F8: =IFERROR(F7/F15,0) -> 5.3472709e-05 | G8: =IFERROR(G7/G15,0) -> 0.00010955661 | H8: =IFERROR(H7/H15,0) -> 7.1804225e-05 | I8: =IFERROR(I7/I15,0) -> 7.1804225e-05 | J8: =IFERROR(J7/J15,0) -> 7.1804225e-05 | K8: =IFERROR(K7/K15,0) -> 7.1804225e-05 | L8: =IFERROR(L7/L15,0) -> 7.1804225e-05 | M8: =IFERROR(M7/M15,0) -> 7.1804225e-05
E9: Fixed Costs | F9: =SUMIFS(F$19:F$37,$N$19:$N$37, $E9) -> 16882283 | G9: =SUMIFS(G$19:G$37,$N$19:$N$37, $E9) -> 17257093 | H9: =SUMIFS(H$19:H$37,$N$19:$N$37, $E9) -> 8615141 | I9: =SUMIFS(I$19:I$37,$N$19:$N$37, $E9) -> 8615141 | J9: =SUMIFS(J$19:J$37,$N$19:$N$37, $E9) -> 17587810 | K9: =SUMIFS(K$19:K$37,$N$19:$N$37, $E9) -> 17938687 | L9: =SUMIFS(L$19:L$37,$N$19:$N$37, $E9) -> 18295308 | M9: =SUMIFS(M$19:M$37,$N$19:$N$37, $E9) -> 18659751
E10: Ratio to Revenue | F10: =IFERROR(F9/F15,0) -> 0.08563284 | G10: =IFERROR(G9/G15,0) -> 0.085221032 | H10: =IFERROR(H9/H15,0) -> 0.079491586 | I10: =IFERROR(I9/I15,0) -> 0.096705959 | J10: =IFERROR(J9/J15,0) -> 0.09497076 | K10: =IFERROR(K9/K15,0) -> 0.093325587 | L10: =IFERROR(L9/L15,0) -> 0.091725597 | M10: =IFERROR(M9/M15,0) -> 0.090115756
E11: Depreciation and Amortization | F11: =SUMIFS(F$19:F$37,$N$19:$N$37, $E11) -> 34091 | G11: =SUMIFS(G$19:G$37,$N$19:$N$37, $E11) -> 32781 | H11: =SUMIFS(H$19:H$37,$N$19:$N$37, $E11) -> 13299 | I11: =SUMIFS(I$19:I$37,$N$19:$N$37, $E11) -> 3350.1526 | J11: =SUMIFS(J$19:J$37,$N$19:$N$37, $E11) -> 8399.7675 | K11: =SUMIFS(K$19:K$37,$N$19:$N$37, $E11) -> 10955.964 | L11: =SUMIFS(L$19:L$37,$N$19:$N$37, $E11) -> 12930.075 | M11: =SUMIFS(M$19:M$37,$N$19:$N$37, $E11) -> 15366.216
E12: Ratio to Revenue | F12: =IFERROR(F11/F15,0) -> 0.00017292147 | G12: =IFERROR(G11/G15,0) -> 0.00016188304 | H12: =IFERROR(H11/H15,0) -> 0.00012270938 | I12: =IFERROR(I11/I15,0) -> 3.7605853e-05 | J12: =IFERROR(J11/J15,0) -> 4.5357113e-05 | K12: =IFERROR(K11/K15,0) -> 5.6998139e-05 | L12: =IFERROR(L11/L15,0) -> 6.4826394e-05 | M12: =IFERROR(M11/M15,0) -> 7.4209897e-05
E13: Total SG&A | F13: =SUM(IFERROR(F5,0), IFERROR(F7,0), IFERROR(F9,0), IFERROR(F11,0)) -> 44043985 | G13: =SUM(IFERROR(G5,0), IFERROR(G7,0), IFERROR(G9,0), IFERROR(G11,0)) -> 44628983 | H13: =SUM(IFERROR(H5,0), IFERROR(H7,0), IFERROR(H9,0), IFERROR(H11,0)) -> 21791246 | I13: =SUM(IFERROR(I5,0), IFERROR(I7,0), IFERROR(I9,0), IFERROR(I11,0)) -> 8624887.9 | J13: =SUM(IFERROR(J5,0), IFERROR(J7,0), IFERROR(J9,0), IFERROR(J11,0)) -> 17609508 | K13: =SUM(IFERROR(K5,0), IFERROR(K7,0), IFERROR(K9,0), IFERROR(K11,0)) -> 17963445 | L13: =SUM(IFERROR(L5,0), IFERROR(L7,0), IFERROR(L9,0), IFERROR(L11,0)) -> 18322560 | M13: =SUM(IFERROR(M5,0), IFERROR(M7,0), IFERROR(M9,0), IFERROR(M11,0)) -> 18689985
E14: Ratio to Revenue | F14: =IFERROR(F13/F15,0) -> 0.22340649 | G14: =IFERROR(G13/G15,0) -> 0.22039216 | H14: =IFERROR(H13/H15,0) -> 0.20106702 | I14: =IFERROR(I13/I15,0) -> 0.096815369 | J14: =IFERROR(J13/J15,0) -> 0.095087921 | K14: =IFERROR(K13/K15,0) -> 0.09345439 | L14: =IFERROR(L13/L15,0) -> 0.091862227 | M14: =IFERROR(M13/M15,0) -> 0.09026177
E15: Revenue | F15: =Revenue!F7 -> 197147298 | G15: =Revenue!G7 -> 202498052 | H15: =Revenue!H7 -> 108378024 | I15: =Revenue!I7 -> 89085937 | J15: =Revenue!J7 -> 1.8519185e+08 | K15: =Revenue!K7 -> 1.9221617e+08 | L15: =Revenue!L7 -> 1.9945696e+08 | M15: =Revenue!M7 -> 2.0706424e+08
F17: Historical Performance | I17: Projection
A18: Main Category | B18: Medium Category | C18: Subcategory | D18: Detailed Category | E18: Category | F18: 2023 | G18: 2024 | H18: 01/2025-06/2025 | I18: 07/2025 - 12/2025 | J18: 2026 | K18: 2027 | L18: 2028 | M18: 2029 | N18: Analysis Method | O18: Notes & References
A19: IV. Selling & Administrative Expenses | B19: Employee Salary | C19: Employee Salary | D19: Employee Salary | E19: Employee Salary | F19: =F44 -> 21567004 | G19: =G44 -> 21670978 | H19: =H44 -> 10844209 | I19: =I44 -> 0 | J19: =J44 -> 0 | K19: =K44 -> 0 | L19: =L44 -> 0 | M19: =M44 -> 0 | N19: Labor Costs
A20: IV. Selling & Administrative Expenses | B20: Bonus | C20: Bonus | D20: Bonus | E20: Bonus | F20: =F45 -> 3138445 | G20: =G45 -> 3211345 | H20: =H45 -> 1109083 | I20: =I45 -> 0 | J20: =J45 -> 0 | K20: =K45 -> 0 | L20: =L45 -> 0 | M20: =M45 -> 0 | N20: Labor Costs
A21: IV. Selling & Administrative Expenses | B21: Retirement Benefits | C21: Retirement Benefits | D21: Retirement Benefits | E21: Retirement Benefits | F21: =F46 -> 2213123 | G21: =G46 -> 2196649 | H21: =H46 -> 1056179 | I21: =I46 -> 0 | J21: =J46 -> 0 | K21: =K46 -> 0 | L21: =L46 -> 0 | M21: =M46 -> 0 | N21: Labor Costs
A22: IV. Selling & Administrative Expenses | B22: Employee Welfare Expenses | C22: Employee Welfare Expenses | D22: Employee Welfare Expenses | E22: Employee Welfare Expenses | F22: =F47 -> 198497 | G22: =G47 -> 237952 | H22: =H47 -> 145553 | I22: =I47 -> 0 | J22: =J47 -> 0 | K22: =K47 -> 0 | L22: =L47 -> 0 | M22: =M47 -> 0 | N22: Labor Costs
A23: IV. Selling & Administrative Expenses | B23: Travel & Transportation Expenses | C23: Travel & Transportation Expenses | D23: Travel & Transportation Expenses | E23: Travel & Transportation Expenses | F23: =F82 -> 10542 | G23: =G82 -> 22185 | H23: =H82 -> 7782 | I23: =I82 -> 6396.7466 | J23: =J82 -> 13297.557 | K23: =K82 -> 13801.933 | L23: =L82 -> 14321.852 | M23: =M82 -> 14868.088 | N23: Variable Costs
A24: IV. Selling & Administrative Expenses | B24: Entertainment Expense | C24: Entertainment Expense | D24: Entertainment Expense | E24: Entertainment Expense | F24: =F88 -> 61990 | G24: =G88 -> 66652 | H24: =H88 -> 39114 | I24: =I88 -> 39114 | J24: =J88 -> 79851.231 | K24: =K88 -> 81444.263 | L24: =L88 -> 83063.375 | M24: =M88 -> 84717.997 | N24: Fixed Costs
A25: IV. Selling & Administrative Expenses | B25: Communication Expense | C25: Communication Expense | D25: Communication Expense | E25: Communication Expense | F25: =F89 -> 23373 | G25: =G89 -> 24840 | H25: =H89 -> 11962 | I25: =I89 -> 11962 | J25: =J89 -> 24420.423 | K25: =K89 -> 24907.61 | L25: =L89 -> 25402.774 | M25: =M89 -> 25908.797 | N25: Fixed Costs
A26: IV. Selling & Administrative Expenses | B26: Utilities Expense | C26: Utilities Expense | D26: Utilities Expense | E26: Utilities Expense | F26: =F90 -> 7076 | G26: =G90 -> 3323 | H26: =H90 -> 954 | I26: =I90 -> 954 | J26: =J90 -> 1947.591 | K26: =K90 -> 1986.4454 | L26: =L90 -> 2025.936 | M26: =M90 -> 2066.2926 | N26: Fixed Costs
A27: IV. Selling & Administrative Expenses | B27: Taxes & Dues | C27: Taxes & Dues | D27: Taxes & Dues | E27: Taxes & Dues | F27: =F91 -> 10171028 | G27: =G91 -> 10160672 | H27: =H91 -> 5086491 | I27: =I91 -> 5086491 | J27: =J91 -> 10384071 | K27: =K91 -> 10591234 | L27: =L91 -> 10801787 | M27: =M91 -> 11016959 | N27: Fixed Costs
A28: IV. Selling & Administrative Expenses | B28: Depreciation Expenses | C28: Depreciation Expenses | D28: Depreciation Expenses | E28: Depreciation Expenses | F28: =F108 -> 34091 | G28: =G108 -> 32781 | H28: =H108 -> 13299 | I28: =I108 -> 3350.1526 | J28: =J108 -> 8399.7675 | K28: =K108 -> 10955.964 | L28: =L108 -> 12930.075 | M28: =M108 -> 15366.216 | N28: Depreciation and Amortization
A29: IV. Selling & Administrative Expenses | B29: Rental Expense | C29: Rental Expense | D29: Rental Expense | E29: Rental Expense | F29: =F92 -> 1993980 | G29: =G92 -> 2000140 | H29: =H92 -> 1019680 | I29: =I92 -> 1019680 | J29: =J92 -> 2081676.7 | K29: =K92 -> 2123206.2 | L29: =L92 -> 2165415.5 | M29: =M92 -> 2208550.6 | N29: Fixed Costs
A30: IV. Selling & Administrative Expenses | B30: Insurance Expense | C30: Insurance Expense | D30: Insurance Expense | E30: Insurance Expense | F30: =F93 -> 404461 | G30: =G93 -> 404461 | H30: =H93 -> 202461 | I30: =I93 -> 202461 | J30: =J93 -> 413324.13 | K30: =K93 -> 421569.95 | L30: =L93 -> 429950.76 | M30: =M93 -> 438515.38 | N30: Fixed Costs
A31: IV. Selling & Administrative Expenses | B31: Vehicle Maintenance Expense | C31: Vehicle Maintenance Expense | D31: Vehicle Maintenance Expense | E31: Vehicle Maintenance Expense | F31: =F94 -> 247888 | G31: =G94 -> 253437 | H31: =H94 -> 134700 | I31: =I94 -> 134700 | J31: =J94 -> 274990.05 | K31: =K94 -> 280476.1 | L31: =L94 -> 286051.97 | M31: =M94 -> 291750.12 | N31: Fixed Costs
A32: IV. Selling & Administrative Expenses | B32: Freight Expense | C32: Freight Expense | D32: Freight Expense | E32: Freight Expense | F32: =F95 -> 829 | G32: =G95 -> 132 | H32: =H95 -> 900 | I32: =I95 -> 900 | J32: =J95 -> 1837.35 | K32: =K95 -> 1874.0051 | L32: =L95 -> 1911.2604 | M32: =M95 -> 1949.3327 | N32: Fixed Costs
A33: IV. Selling & Administrative Expenses | B33: Training Expense | C33: Training Expense | D33: Training Expense | E33: Training Expense | F33: =F96 -> 7540 | G33: =G96 -> 16740 | H33: =H96 -> 16510 | I33: =I96 -> 16510 | J33: =J96 -> 33705.165 | K33: =K96 -> 34377.583 | L33: =L96 -> 35061.009 | M33: =M96 -> 35759.425 | N33: Fixed Costs
A34: IV. Selling & Administrative Expenses | B34: Books & Printing Expense | C34: Books & Printing Expense | D34: Books & Printing Expense | E34: Books & Printing Expense | F34: =F97 -> 439 | G34: =G97 -> 2700 | H34: =H97 -> 0 | I34: =I97 -> 0 | J34: =J97 -> 0 | K34: =K97 -> 0 | L34: =L97 -> 0 | M34: =M97 -> 0 | N34: Fixed Costs
A35: IV. Selling & Administrative Expenses | B35: Office Supplies Expense | C35: Office Supplies Expense | D35: Office Supplies Expense | E35: Office Supplies Expense | F35: =F98 -> 156622 | G35: =G98 -> 150596 | H35: =H98 -> 241225 | I35: =I98 -> 241225 | J35: =J98 -> 492460.84 | K35: =K98 -> 502285.43 | L35: =L98 -> 512270.87 | M35: =M98 -> 522475.3 | N35: Fixed Costs
A36: IV. Selling & Administrative Expenses | B36: Service Fee Expense | C36: Service Fee Expense | D36: Service Fee Expense | E36: Service Fee Expense | F36: =F99 -> 3699844 | G36: =G99 -> 4060563 | H36: =H99 -> 1832194 | I36: =I99 -> 1832194 | J36: =J99 -> 3740424.1 | K36: =K99 -> 3815045.5 | L36: =L99 -> 3890888.6 | M36: =M99 -> 3968395.1 | N36: Fixed Costs
A37: IV. Selling & Administrative Expenses | B37: Advertising & Promotion Expense | C37: Advertising & Promotion Expense | D37: Advertising & Promotion Expense | E37: Advertising & Promotion Expense | F37: =F100 -> 107213 | G37: =G100 -> 112837 | H37: =H100 -> 28950 | I37: =I100 -> 28950 | J37: =J100 -> 59101.425 | K37: =K100 -> 60280.498 | L37: =L100 -> 61478.875 | M37: =M100 -> 62703.534 | N37: Fixed Costs
E38: Total | F38: =SUM(F19:F37) -> 44043985 | G38: =SUM(G19:G37) -> 44628983 | H38: =SUM(H19:H37) -> 21791246 | I38: =SUM(I19:I37) -> 8624887.9 | J38: =SUM(J19:J37) -> 17609508 | K38: =SUM(K19:K37) -> 17963445 | L38: =SUM(L19:L37) -> 18322560 | M38: =SUM(M19:M37) -> 18689985
E39: Ratio to Revenue | F39: =IFERROR(F38/F40,0) -> 0.22340649 | G39: =IFERROR(G38/G40,0) -> 0.22039216 | H39: =IFERROR(H38/H40,0) -> 0.20106702 | I39: =IFERROR(I38/I40,0) -> 0.096815369 | J39: =IFERROR(J38/J40,0) -> 0.095087921 | K39: =IFERROR(K38/K40,0) -> 0.09345439 | L39: =IFERROR(L38/L40,0) -> 0.091862227 | M39: =IFERROR(M38/M40,0) -> 0.09026177
E40: Revenue | F40: =Revenue!F7 -> 197147298 | G40: =Revenue!G7 -> 202498052 | H40: =Revenue!H7 -> 108378024 | I40: =Revenue!I7 -> 89085937 | J40: =Revenue!J7 -> 1.8519185e+08 | K40: =Revenue!K7 -> 1.9221617e+08 | L40: =Revenue!L7 -> 1.9945696e+08 | M40: =Revenue!M7 -> 2.0706424e+08
A42: SG&A: Labor Costs | F42: Historical Performance | I42: Projection
E43: Category | F43: 2023 | G43: 2024 | H43: 01/2025-06/2025 | I43: 07/2025 - 12/2025 | J43: 2026 | K43: 2027 | L43: 2028 | M43: 2029 | N43: Analysis Method | O43: Notes & References
...

Sheet NO
A1: Non-Operating | H1: DCF Value | I1: =DCF!I44 -> 5.3337033e+08 | J1: =DCF!J44 -> 1.0553496e+09 | K1: =DCF!K44 -> 1.0786351e+09 | L1: =DCF!L44 -> 1.1008666e+09 | M1: =DCF!M44 -> 1.1211167e+09
F3: Historical Performance | I3: Projection
A4: Main Category | B4: Medium Category | C4: Subcategory | D4: Detailed Category | E4: Category | F4: 2023 | G4: 2024 | H4: 01/2025-06/2025 | I4: 07/2025 - 12/2025 | J4: 2026 | K4: 2027 | L4: 2028 | M4: 2029 | N4: Analysis Method | O4: Notes & References
A5: V. Non-Operating Income & Expenses | B5: Interest Income | C5: Interest Income | D5: Interest Income | E5: Interest Income | F5: =PL!F35+PL_A!F35 -> 834356 | G5: =PL!G35+PL_A!G35 -> 804784 | H5: =PL!H35+PL_A!H35 -> 396278 | I5: 0 | J5: 0 | K5: 0 | L5: 0 | M5: 0 | N5: Non-Operating
E6: Total | F6: =SUM(F5:F5) -> 834356 | G6: =SUM(G5:G5) -> 804784 | H6: =SUM(H5:H5) -> 396278 | I6: =SUM(I5:I5) -> 0 | J6: =SUM(J5:J5) -> 0 | K6: =SUM(K5:K5) -> 0 | L6: =SUM(L5:L5) -> 0 | M6: =SUM(M5:M5) -> 0

Sheet Est_PL
A1: Estimated Profit and Loss Statement reflecting estimates (accout-level basis) | H1: DCF Value | I1: =DCF!I44 -> 5.3337033e+08 | J1: =DCF!J44 -> 1.0553496e+09 | K1: =DCF!K44 -> 1.0786351e+09 | L1: =DCF!L44 -> 1.1008666e+09 | M1: =DCF!M44 -> 1.1211167e+09
F3: Historical Performance | I3: Projection
A4: Main Category | B4: Medium Category | C4: Subcategory | D4: Detailed Category | E4: Sub-Detailed Category | F4: 2023 | G4: 2024 | H4: 01/2025-06/2025 | I4: 07/2025 - 12/2025 | J4: 2026 | K4: 2027 | L4: 2028 | M4: 2029 | N4: Account Type | O4: Analysis Method | P4: Notes & References
A5: I. Revenue | B5: Product Revenue | C5: Product Revenue | D5: Product Revenue | E5: Product Revenue | F5: =Revenue!F5 -> 168063711 | G5: =Revenue!G5 -> 170880819 | H5: =Revenue!H5 -> 89085937 | I5: =Revenue!I5 -> 89085937 | J5: =Revenue!J5 -> 1.8519185e+08 | K5: =Revenue!K5 -> 1.9221617e+08 | L5: =Revenue!L5 -> 1.9945696e+08 | M5: =Revenue!M5 -> 2.0706424e+08 | N5: Revenue | O5: Revenue Growth Rate
A6: I. Revenue | B6: Service Revenue | C6: Service Revenue | D6: Service Revenue | E6: Service Revenue | F6: =Revenue!F6 -> 29083587 | G6: =Revenue!G6 -> 31617233 | H6: =Revenue!H6 -> 19292087 | I6: =Revenue!I6 -> 0 | J6: =Revenue!J6 -> 0 | K6: =Revenue!K6 -> 0 | L6: =Revenue!L6 -> 0 | M6: =Revenue!M6 -> 0 | N6: Revenue | O6: Market Share
A7: II. Cost of Goods Sold | B7: Labor Costs | C7: Labor Costs | D7: Labor Costs | E7: Labor Costs | F7: =COGS!F19 -> 22889937 | G7: =COGS!G19 -> 22775909 | H7: =COGS!H19 -> 11399548 | I7: =COGS!I19 -> 0 | J7: =COGS!J19 -> 0 | K7: =COGS!K19 -> 0 | L7: =COGS!L19 -> 0 | M7: =COGS!M19 -> 0 | N7: COGS | O7: Labor Costs
A8: II. Cost of Goods Sold | B8: Retirement Benefits | C8: Retirement Benefits | D8: Retirement Benefits | E8: Retirement Benefits | F8: =COGS!F20 -> 2245173 | G8: =COGS!G20 -> 2231672 | H8: =COGS!H20 -> 1284506 | I8: =COGS!I20 -> 0 | J8: =COGS!J20 -> 0 | K8: =COGS!K20 -> 0 | L8: =COGS!L20 -> 0 | M8: =COGS!M20 -> 0 | N8: COGS | O8: Labor Costs
A9: II. Cost of Goods Sold | B9: Material Cost | C9: Material Cost | D9: Material Cost | E9: Material Cost | F9: =COGS!F21 -> 43512069 | G9: =COGS!G21 -> 43080381 | H9: =COGS!H21 -> 22570358 | I9: =COGS!I21 -> 18552668 | J9: =COGS!J21 -> 38567286 | K9: =COGS!K21 -> 40030143 | L9: =COGS!L21 -> 41538079 | M9: =COGS!M21 -> 43122341 | N9: COGS | O9: Variable Costs
A10: II. Cost of Goods Sold | B10: Depreciation Expenses | C10: Depreciation Expenses | D10: Depreciation Expenses | E10: Depreciation Expenses | F10: =COGS!F22 -> 6160194 | G10: =COGS!G22 -> 6160194 | H10: =COGS!H22 -> 3180097 | I10: =COGS!I22 -> 629559.51 | J10: =COGS!J22 -> 1647989.7 | K10: =COGS!K22 -> 2204947.1 | L10: =COGS!L22 -> 2597912 | M10: =COGS!M22 -> 3087756.3 | N10: COGS | O10: Depreciation and Amortization
A11: II. Cost of Goods Sold | B11: Rental Expense | C11: Rental Expense | D11: Rental Expense | E11: Rental Expense | F11: =COGS!F23 -> 785495 | G11: =COGS!G23 -> 833423 | H11: =COGS!H23 -> 482154 | I11: =COGS!I23 -> 482154 | J11: =COGS!J23 -> 984317.39 | K11: =COGS!K23 -> 1003954.5 | L11: =COGS!L23 -> 1023913.1 | M11: =COGS!M23 -> 1044309.5 | N11: COGS | O11: Fixed Costs
A12: II. Cost of Goods Sold | B12: Repair Expense | C12: Repair Expense | D12: Repair Expense | E12: Repair Expense | F12: =COGS!F24 -> 0 | G12: =COGS!G24 -> 200000 | H12: =COGS!H24 -> 2500 | I12: =COGS!I24 -> 2500 | J12: =COGS!J24 -> 5103.75 | K12: =COGS!K24 -> 5205.5698 | L12: =COGS!L24 -> 5309.0565 | M12: =COGS!M24 -> 5414.8129 | N12: COGS | O12: Fixed Costs
A13: II. Cost of Goods Sold | B13: Insurance Expense | C13: Insurance Expense | D13: Insurance Expense | E13: Insurance Expense | F13: =COGS!F25 -> 1139403 | G13: =COGS!G25 -> 1255062 | H13: =COGS!H25 -> 605071 | I13: =COGS!I25 -> 605071 | J13: =COGS!J25 -> 1235252.4 | K13: =COGS!K25 -> 1259895.7 | L13: =COGS!L25 -> 1284942.5 | M13: =COGS!M25 -> 1310538.5 | N13: COGS | O13: Fixed Costs
A14: II. Cost of Goods Sold | B14: Freight Expense | C14: Freight Expense | D14: Freight Expense | E14: Freight Expense | F14: =COGS!F26 -> 399023 | G14: =COGS!G26 -> 734996 | H14: =COGS!H26 -> 404825 | I14: =COGS!I26 -> 404825 | J14: =COGS!J26 -> 826450.24 | K14: =COGS!K26 -> 842937.92 | L14: =COGS!L26 -> 859695.53 | M14: =COGS!M26 -> 876820.66 | N14: COGS | O14: Fixed Costs
A15: II. Cost of Goods Sold | B15: Amortization of Intangible Assets | C15: Amortization of Intangible Assets | D15: Amortization of Intangible Assets | E15: Amortization of Intangible Assets | F15: =COGS!F27 -> 400630 | G15: =COGS!G27 -> 400630 | H15: =COGS!H27 -> 200315 | I15: =COGS!I27 -> 40943.585 | J15: =COGS!J27 -> 106513.64 | K15: =COGS!K27 -> 142003.97 | L15: =COGS!L27 -> 167350.53 | M15: =COGS!M27 -> 198901.64 | N15: COGS | O15: Depreciation and Amortization
A16: IV. Selling & Administrative Expenses | B16: Employee Salary | C16: Employee Salary | D16: Employee Salary | E16: Employee Salary | F16: =SGA!F19 -> 21567004 | G16: =SGA!G19 -> 21670978 | H16: =SGA!H19 -> 10844209 | I16: =SGA!I19 -> 0 | J16: =SGA!J19 -> 0 | K16: =SGA!K19 -> 0 | L16: =SGA!L19 -> 0 | M16: =SGA!M19 -> 0 | N16: SGA | O16: Labor Costs
A17: IV. Selling & Administrative Expenses | B17: Bonus | C17: Bonus | D17: Bonus | E17: Bonus | F17: =SGA!F20 -> 3138445 | G17: =SGA!G20 -> 3211345 | H17: =SGA!H20 -> 1109083 | I17: =SGA!I20 -> 0 | J17: =SGA!J20 -> 0 | K17: =SGA!K20 -> 0 | L17: =SGA!L20 -> 0 | M17: =SGA!M20 -> 0 | N17: SGA | O17: Labor Costs
A18: IV. Selling & Administrative Expenses | B18: Retirement Benefits | C18: Retirement Benefits | D18: Retirement Benefits | E18: Retirement Benefits | F18: =SGA!F21 -> 2213123 | G18: =SGA!G21 -> 2196649 | H18: =SGA!H21 -> 1056179 | I18: =SGA!I21 -> 0 | J18: =SGA!J21 -> 0 | K18: =SGA!K21 -> 0 | L18: =SGA!L21 -> 0 | M18: =SGA!M21 -> 0 | N18: SGA | O18: Labor Costs
